BEGIN:VCALENDAR
VERSION:2.0
PRODID:-//Clean Air Council - ECPv6.15.20//NONSGML v1.0//EN
CALSCALE:GREGORIAN
METHOD:PUBLISH
X-WR-CALNAME:Clean Air Council
X-ORIGINAL-URL:https://cleanair.org
X-WR-CALDESC:Events for Clean Air Council
REFRESH-INTERVAL;VALUE=DURATION:PT1H
X-Robots-Tag:noindex
X-PUBLISHED-TTL:PT1H
BEGIN:VTIMEZONE
TZID:UTC
BEGIN:STANDARD
TZOFFSETFROM:+0000
TZOFFSETTO:+0000
TZNAME:UTC
DTSTART:20190101T000000
END:STANDARD
END:VTIMEZONE
BEGIN:VEVENT
DTSTART;TZID=UTC:20200427T173000
DTEND;TZID=UTC:20200427T183000
DTSTAMP:20260425T122001
CREATED:20200408T155324Z
LAST-MODIFIED:20200408T155351Z
UID:7304-1588008600-1588012200@cleanair.org
SUMMARY:Renewable Natural Gas - Clean Air Council & Energy Co-Op FREE Webinar
DESCRIPTION:For those concerned about drilling and fracking to supply their home’s natural gas\, Clean Air Council and The Energy Co-op are joining forces to present a workshop on an alternative – Renewable Natural Gas (RNG)! \nRNG is biogas\, a compound of methane and carbon dioxide\, that comes naturally from the decomposition of organic waste\, like landfills and other waste management facilities. It’s often flared\, reducing it to C02 and wasting the energy content of its methane component\, however\, it can also be like conventional natural gas – without any drilling or fracking. \nJoin us in this FREE webinar to learn about the problems with drilling and fracking\, the benefits of RNG\, and what you can do to get involved! \nSign Up HERE
URL:https://cleanair.org/event/rng-webinar/
LOCATION:Online
ATTACH;FMTTYPE=image/jpeg:https://cleanair.org/wp-content/uploads/RNG-Cover-e1543936693312-1500x375.jpg
END:VEVENT
BEGIN:VEVENT
DTSTART;TZID=UTC:20210417T073000
DTEND;TZID=UTC:20210425T235900
DTSTAMP:20260425T122001
CREATED:20210414T122606Z
LAST-MODIFIED:20210414T122615Z
UID:8892-1618644600-1619395140@cleanair.org
SUMMARY:40th Annual Run for Clean Air presented by Toyota Hybrids
DESCRIPTION:2021 is a huge landmark for the Run for Clean Air presented by Toyota Hybrids\, commemorating the 40th anniversary of the race. The Run for Clean Air is one of the region’s longest-running charity races and its largest Earth Day event. The Run is a celebration of sustainable and healthy neighborhoods\, clean air\, and improvements in the region’s overall environmental health. Year after year\, sponsors\, volunteers\, runners\, walkers and families choose to celebrate Earth Day with Clean Air Council. \nFor a second year\, the Run for Clean Air presented by Toyota Hybrids will be a virtual race\, giving runners the freedom and flexibility to run their race when and where they like. Runners are encouraged to run their virtual race and submit their times on Saturday\, April 17th to participate in the live raceday result broadcast on our Facebook page. But of course\, you are welcome to run any time during Earth Week\, from April 17th through the 25th. \nAll virtual runners and walkers will receive a race shirt and finisher medal.
URL:https://cleanair.org/event/40th-annual-run-for-clean-air-presented-by-toyota-hybrids/
ATTACH;FMTTYPE=image/jpeg:https://cleanair.org/wp-content/uploads/NL-Run-Image-Jan-21.jpg
END:VEVENT
BEGIN:VEVENT
DTSTART;TZID=UTC:20250315T110000
DTEND;TZID=UTC:20250315T133000
DTSTAMP:20260425T122001
CREATED:20250306T143146Z
LAST-MODIFIED:20250306T143146Z
UID:13572-1742036400-1742045400@cleanair.org
SUMMARY:Keep Delco Beutiful - Sun Village Park Cleanup
DESCRIPTION:Interested in making a difference in your community? Want to meet local groups and organizations that are making a difference in Delco? Want to help KEEP DELCO BEAUTIFUL? Join us on Saturday\, March 15th from 10:30 AM – 1:30 PM in Sun Village Park\, in the City of Chester for the Keep Delco Beautiful Launch Event. \nRegister Here \n​Keep Delco Beautiful is a partnership of many organizations in Delaware County which are tirelessly working to make our community safe\, clean\, and beautiful. \nTo bring awareness to this important partnership\, and provide an opportunity for community members to get acquainted with all the wonderful groups working to Keep Delco Beautiful\, there will be a Launch Event on Saturday\, March 15th from 10:30 AM – 1:30 PM in Sun Village Park\, in the City of Chester. \nThe event will include a community clean up (picking up litter\, clearing debris\, and cutting back invasive plants)\, followed by a celebration featuring food and information sharing in Sun Village Park\, Chester City. Gloves\, bags\, and other supplies will be provided. While refreshments will be provided\, each participant is encouraged to pack a reusable bottle to reduce waste. \nThe rough agenda for this event can be found below: \nAgenda\n10:30 AM – Volunteers Check in and Refreshments\n11:00 AM – Announcements\, Housekeeping\, and Instructions for Clean Up Kick Off\n11:10 AM – Clean Up Commences\n12:50 PM – Celebration and Information Sharing Begins\n– Community Members Can Grab Food\, Visit Tables\, and Participate in a Community Art Project!\n1:15 PM – Closing Remarks and Thanks to all for participating\n1:30 PM – Event Concludes \nTHIS EVENT IS RAIN OR SHINE! \nCommunity Members and Volunteers from all parts of Delco are encouraged to attend this event to help KEEP DELCO BEAUTIFUL! \nVolunteer groups\, scout organizations\, and individuals are welcome! To register\, please fill out this form.  \n​Pre-Registration is NOT required\, but highly encouraged\, so you can have more time for chatting and chewing! \n*Note: Children under the age of 18 must be accompanied by a trusted adult (Scout Leader\, Parent\, Guardian\, Etc) AND have parental consent to participate.*Keep Delco Beautiful Kickoff SUn Village Community Cleanup Day! (1)
URL:https://cleanair.org/event/keep-delco-beutiful-sun-village-park-cleanup/
LOCATION:Sun Village Park\, 9th and Elsinore Sts\, Chester\, PA\, 19013\, United States
END:VEVENT
END:VCALENDAR