BEGIN:VCALENDAR
VERSION:2.0
PRODID:-//Clean Air Council - ECPv6.15.20//NONSGML v1.0//EN
CALSCALE:GREGORIAN
METHOD:PUBLISH
X-WR-CALNAME:Clean Air Council
X-ORIGINAL-URL:https://cleanair.org
X-WR-CALDESC:Events for Clean Air Council
REFRESH-INTERVAL;VALUE=DURATION:PT1H
X-Robots-Tag:noindex
X-PUBLISHED-TTL:PT1H
BEGIN:VTIMEZONE
TZID:UTC
BEGIN:STANDARD
TZOFFSETFROM:+0000
TZOFFSETTO:+0000
TZNAME:UTC
DTSTART:20170101T000000
END:STANDARD
END:VTIMEZONE
BEGIN:VEVENT
DTSTART;TZID=UTC:20181016T190000
DTEND;TZID=UTC:20181016T210000
DTSTAMP:20260425T153723
CREATED:20180817T173702Z
LAST-MODIFIED:20180817T173702Z
UID:5788-1539716400-1539723600@cleanair.org
SUMMARY:Neighbors Eighth Meeting: Susan Hoppe
DESCRIPTION:
URL:https://cleanair.org/event/neighbors-eighth-meeting-susan-hoppe/
LOCATION:PA
CATEGORIES:Southwest PA
END:VEVENT
BEGIN:VEVENT
DTSTART;TZID=UTC:20181014T190000
DTEND;TZID=UTC:20181014T210000
DTSTAMP:20260425T153723
CREATED:20181002T174335Z
LAST-MODIFIED:20181002T174335Z
UID:5962-1539543600-1539550800@cleanair.org
SUMMARY:Neighbors Second Meeting - Rebekah Gamble
DESCRIPTION:
URL:https://cleanair.org/event/neighbors-second-meeting-rebekah-gamble/
LOCATION:Sparkledragon’s Magical Emporium\, 2120 Broadway Ave\, Pittsburgh\, PA\, 15216\, United States
CATEGORIES:Southwest PA
GEO:40.404429;-80.0304185
X-APPLE-STRUCTURED-LOCATION;VALUE=URI;X-ADDRESS=Sparkledragon’s Magical Emporium 2120 Broadway Ave Pittsburgh PA 15216 United States;X-APPLE-RADIUS=500;X-TITLE=2120 Broadway Ave:geo:-80.0304185,40.404429
END:VEVENT
BEGIN:VEVENT
DTSTART;TZID=UTC:20181011T190000
DTEND;TZID=UTC:20181011T210000
DTSTAMP:20260425T153723
CREATED:20181002T172256Z
LAST-MODIFIED:20181002T172256Z
UID:5959-1539284400-1539291600@cleanair.org
SUMMARY:Neighbors First Meeting - Andrew Gioia
DESCRIPTION:
URL:https://cleanair.org/event/neighbors-first-meeting-andrew-gioia/
LOCATION:Lauri Ann West Community Center\, 1220 Powers Run Road\, Pittsburgh\, PA\, 15238\, United States
CATEGORIES:Southwest PA
END:VEVENT
BEGIN:VEVENT
DTSTART;TZID=UTC:20181010T183000
DTEND;TZID=UTC:20181010T203000
DTSTAMP:20260425T153723
CREATED:20180817T171229Z
LAST-MODIFIED:20180817T171229Z
UID:5786-1539196200-1539203400@cleanair.org
SUMMARY:Neighbors Eighth Meeting: April Clisura
DESCRIPTION:
URL:https://cleanair.org/event/neighbors-eighth-meeting-april-clisura/
LOCATION:April’s House\, Pittsburgh\, PA\, 15207\, United States
CATEGORIES:Southwest PA
END:VEVENT
BEGIN:VEVENT
DTSTART;TZID=UTC:20181009T190000
DTEND;TZID=UTC:20181009T210000
DTSTAMP:20260425T153723
CREATED:20180817T162414Z
LAST-MODIFIED:20180817T163632Z
UID:5784-1539111600-1539118800@cleanair.org
SUMMARY:Neighbors Eighth Meeting: Nancy Bernstein
DESCRIPTION:
URL:https://cleanair.org/event/neighbors-eighth-meeting-nancy-bernstein/
LOCATION:Nancy’s House\, Pittsburgh\, PA\, 15217\, United States
CATEGORIES:Southwest PA
GEO:40.4327086;-79.9248669
END:VEVENT
BEGIN:VEVENT
DTSTART;TZID=UTC:20181007T190000
DTEND;TZID=UTC:20181007T210000
DTSTAMP:20260425T153723
CREATED:20180926T142128Z
LAST-MODIFIED:20180926T142145Z
UID:5947-1538938800-1538946000@cleanair.org
SUMMARY:Neighbors Fifth Meeting - Nora Johnson
DESCRIPTION:
URL:https://cleanair.org/event/neighbors-fifth-meeting-nora-johnson/
LOCATION:Sixth Presbyterian Church\, 1688 Murray Ave\, Pittsburgh\, PA\, 15217\, United States
CATEGORIES:Southwest PA
GEO:40.4384559;-79.9233349
X-APPLE-STRUCTURED-LOCATION;VALUE=URI;X-ADDRESS=Sixth Presbyterian Church 1688 Murray Ave Pittsburgh PA 15217 United States;X-APPLE-RADIUS=500;X-TITLE=1688 Murray Ave:geo:-79.9233349,40.4384559
END:VEVENT
BEGIN:VEVENT
DTSTART;TZID=UTC:20181004T110000
DTEND;TZID=UTC:20181004T140000
DTSTAMP:20260425T153723
CREATED:20180820T183241Z
LAST-MODIFIED:20181001T140947Z
UID:5796-1538650800-1538661600@cleanair.org
SUMMARY:Sustainability Day at the Navy Yard
DESCRIPTION:Join Clean Air Council\, the U.S. Navy\, PIDC\, LUX Products\, Penn State\, and many more for the Navy Yard’s Sustainability Day. This free outdoor lunch event takes place on Thursday\, October 4th from 11:00am to 1:30pm at the Marine Parade Grounds. \nSustainability Day includes\, yoga\, electronic waste disposal\, food trucks\, prizes and more. This event is a great opportunity become more involved with local environmental groups and learn about Navy Yard companies that are doing their part to protect the environment.
URL:https://cleanair.org/event/sustainability-day-at-the-navy-yard/
LOCATION:Marine Parade Grounds\, 4747 S Broad Street\, Philadelphia\, PA\, 19122\, United States
ATTACH;FMTTYPE=image/jpeg:https://cleanair.org/wp-content/uploads/NYSD2017_Navy.jpg
GEO:39.8931518;-75.1745567
X-APPLE-STRUCTURED-LOCATION;VALUE=URI;X-ADDRESS=Marine Parade Grounds 4747 S Broad Street Philadelphia PA 19122 United States;X-APPLE-RADIUS=500;X-TITLE=4747 S Broad Street:geo:-75.1745567,39.8931518
END:VEVENT
BEGIN:VEVENT
DTSTART;TZID=UTC:20180930T140000
DTEND;TZID=UTC:20180930T160000
DTSTAMP:20260425T153723
CREATED:20180926T141155Z
LAST-MODIFIED:20180926T141155Z
UID:5941-1538316000-1538323200@cleanair.org
SUMMARY:Neighbors Seventh Meeting - Mark Dixon
DESCRIPTION:
URL:https://cleanair.org/event/neighbors-seventh-meeting-mark-dixon/
LOCATION:Mark’s House\, Pittsburgh\, 15217
CATEGORIES:Southwest PA
GEO:40.4327086;-79.9248669
END:VEVENT
BEGIN:VEVENT
DTSTART;TZID=UTC:20180927T183000
DTEND;TZID=UTC:20180927T203000
DTSTAMP:20260425T153723
CREATED:20180820T202941Z
LAST-MODIFIED:20180820T203227Z
UID:5821-1538073000-1538080200@cleanair.org
SUMMARY:Neighbors Fifth Meeting - Zelda Curtiss
DESCRIPTION:
URL:https://cleanair.org/event/neighbors-fifth-meeting-zelda-curtiss/
LOCATION:Zelda’s House\, Pittsburgh\, PA\, 15217\, United States
CATEGORIES:Southwest PA
GEO:40.4327086;-79.9248669
END:VEVENT
BEGIN:VEVENT
DTSTART;TZID=UTC:20180927T180000
DTEND;TZID=UTC:20180927T193000
DTSTAMP:20260425T153723
CREATED:20180829T190422Z
LAST-MODIFIED:20180829T190422Z
UID:5862-1538071200-1538076600@cleanair.org
SUMMARY:Neighbors Leader Training Session
DESCRIPTION:
URL:https://cleanair.org/event/neighbors-leader-training-session-3/
LOCATION:Mt Lebanon Public Library\, 16 Castle Shannon Blvd\, Mt Lebanon\, PA\, 15228\, United States
CATEGORIES:Southwest PA
GEO:40.3770325;-80.0453305
X-APPLE-STRUCTURED-LOCATION;VALUE=URI;X-ADDRESS=Mt Lebanon Public Library 16 Castle Shannon Blvd Mt Lebanon PA 15228 United States;X-APPLE-RADIUS=500;X-TITLE=16 Castle Shannon Blvd:geo:-80.0453305,40.3770325
END:VEVENT
BEGIN:VEVENT
DTSTART;TZID=UTC:20180927T180000
DTEND;TZID=UTC:20180927T190000
DTSTAMP:20260425T153723
CREATED:20180817T154749Z
LAST-MODIFIED:20180817T154749Z
UID:5781-1538071200-1538074800@cleanair.org
SUMMARY:Neighbors Seventh Meeting: Evalynn Welling
DESCRIPTION:
URL:https://cleanair.org/event/neighbors-seventh-meeting-evalynn-welling/
LOCATION:East Liberty Presbyterian Church\, 116 S Highland Ave\, Pittsburgh\, PA\, 15206\, United States
CATEGORIES:Southwest PA
GEO:40.4611789;-79.9256102
X-APPLE-STRUCTURED-LOCATION;VALUE=URI;X-ADDRESS=East Liberty Presbyterian Church 116 S Highland Ave Pittsburgh PA 15206 United States;X-APPLE-RADIUS=500;X-TITLE=116 S Highland Ave:geo:-79.9256102,40.4611789
END:VEVENT
BEGIN:VEVENT
DTSTART;TZID=UTC:20180926T183000
DTEND;TZID=UTC:20180926T203000
DTSTAMP:20260425T153723
CREATED:20180817T154231Z
LAST-MODIFIED:20180817T154507Z
UID:5778-1537986600-1537993800@cleanair.org
SUMMARY:Neighbors Sixth Meeting: Madeline Havrilla
DESCRIPTION:
URL:https://cleanair.org/event/neighbors-sixth-meeting-madeline-havrilla/
LOCATION:Monroeville Public Library\, 4000 Gateway Campus Blvd\, Monroeville\, PA\, 15146\, United States
CATEGORIES:Southwest PA
GEO:40.4301081;-79.7526853
X-APPLE-STRUCTURED-LOCATION;VALUE=URI;X-ADDRESS=Monroeville Public Library 4000 Gateway Campus Blvd Monroeville PA 15146 United States;X-APPLE-RADIUS=500;X-TITLE=4000 Gateway Campus Blvd:geo:-79.7526853,40.4301081
END:VEVENT
BEGIN:VEVENT
DTSTART;TZID=UTC:20180926T180000
DTEND;TZID=UTC:20180926T200000
DTSTAMP:20260425T153723
CREATED:20180926T141812Z
LAST-MODIFIED:20180926T141849Z
UID:5943-1537984800-1537992000@cleanair.org
SUMMARY:Neighbors Second Meeting - Erica Guandolo
DESCRIPTION:
URL:https://cleanair.org/event/neighbors-second-meeting-erica-guandolo/
LOCATION:Oak Arbor Grille\, 500 Market St\, Beaver\, PA\, 15009\, United States
CATEGORIES:Southwest PA
END:VEVENT
BEGIN:VEVENT
DTSTART;TZID=UTC:20180925T190000
DTEND;TZID=UTC:20180925T213000
DTSTAMP:20260425T153723
CREATED:20180817T153703Z
LAST-MODIFIED:20180822T132521Z
UID:5768-1537902000-1537911000@cleanair.org
SUMMARY:Energy Star Pennsylvania Stewardship Tour
DESCRIPTION:  \nPA-TOUR-Pittsburgh-ENERGYSTAR_Congregations
URL:https://cleanair.org/event/energy-star-pennsylvania-stewardship-tour/
LOCATION:Pittsburgh Theological Seminary\, 616 Highland Ave\, Pittsburgh\, PA\, 15206\, United States
CATEGORIES:Southwest PA
ATTACH;FMTTYPE=image/png:https://cleanair.org/wp-content/uploads/Screenshot-9.png
GEO:40.4673533;-79.9210192
X-APPLE-STRUCTURED-LOCATION;VALUE=URI;X-ADDRESS=Pittsburgh Theological Seminary 616 Highland Ave Pittsburgh PA 15206 United States;X-APPLE-RADIUS=500;X-TITLE=616 Highland Ave:geo:-79.9210192,40.4673533
END:VEVENT
BEGIN:VEVENT
DTSTART;TZID=UTC:20180925T190000
DTEND;TZID=UTC:20180925T210000
DTSTAMP:20260425T153723
CREATED:20180907T175902Z
LAST-MODIFIED:20180907T175902Z
UID:5905-1537902000-1537909200@cleanair.org
SUMMARY:Neighbors First Meeting: Chara Williams & Emily Cleath
DESCRIPTION:
URL:https://cleanair.org/event/neighbors-first-meeting-chara-williams-emily-cleath/
LOCATION:Chara’s House\, Point Breeze
CATEGORIES:Southwest PA
GEO:39.4865799;-76.6570938
END:VEVENT
BEGIN:VEVENT
DTSTART;TZID=UTC:20180921T130000
DTEND;TZID=UTC:20180921T143000
DTSTAMP:20260425T153723
CREATED:20180829T190109Z
LAST-MODIFIED:20180829T190109Z
UID:5858-1537534800-1537540200@cleanair.org
SUMMARY:Neighbors Leader Training Session
DESCRIPTION:
URL:https://cleanair.org/event/neighbors-leader-training-session-2/
LOCATION:Delanie’s Coffee\, 1737 E Carson St\, Pittsburgh\, PA\, 15203\, United States
CATEGORIES:Southwest PA
GEO:40.4289812;-79.9807452
X-APPLE-STRUCTURED-LOCATION;VALUE=URI;X-ADDRESS=Delanie’s Coffee 1737 E Carson St Pittsburgh PA 15203 United States;X-APPLE-RADIUS=500;X-TITLE=1737 E Carson St:geo:-79.9807452,40.4289812
END:VEVENT
BEGIN:VEVENT
DTSTART;TZID=UTC:20180918T190000
DTEND;TZID=UTC:20180918T210000
DTSTAMP:20260425T153723
CREATED:20180817T152800Z
LAST-MODIFIED:20180817T152800Z
UID:5761-1537297200-1537304400@cleanair.org
SUMMARY:Neighbors Seventh Meeting: Susan Hoppe
DESCRIPTION:
URL:https://cleanair.org/event/neighbors-seventh-meeting-susan-hoppe/
LOCATION:Susan’s House\, Pittsburgh\, PA\, 15206\, United States
CATEGORIES:Southwest PA
END:VEVENT
BEGIN:VEVENT
DTSTART;TZID=UTC:20180916T190000
DTEND;TZID=UTC:20180916T210000
DTSTAMP:20260425T153723
CREATED:20180817T152439Z
LAST-MODIFIED:20180817T152515Z
UID:5757-1537124400-1537131600@cleanair.org
SUMMARY:Neighbors Fourth Meeting: Nora Johnson
DESCRIPTION:
URL:https://cleanair.org/event/neighbors-fourth-meeting-nora-johnson/
LOCATION:Sixth Presbyterian Church\, 1688 Murray Ave\, Pittsburgh\, PA\, 15217\, United States
CATEGORIES:Southwest PA
GEO:40.4384559;-79.9233349
X-APPLE-STRUCTURED-LOCATION;VALUE=URI;X-ADDRESS=Sixth Presbyterian Church 1688 Murray Ave Pittsburgh PA 15217 United States;X-APPLE-RADIUS=500;X-TITLE=1688 Murray Ave:geo:-79.9233349,40.4384559
END:VEVENT
BEGIN:VEVENT
DTSTART;TZID=UTC:20180913T180000
DTEND;TZID=UTC:20180913T210000
DTSTAMP:20260425T153723
CREATED:20180817T151108Z
LAST-MODIFIED:20180817T151554Z
UID:5753-1536861600-1536872400@cleanair.org
SUMMARY:Clairton Workshop to Scratch the Advocacy Itch
DESCRIPTION:
URL:https://cleanair.org/event/clairton-workshop-to-scratch-the-advocacy-itch/
LOCATION:CEDCC\, 282 St Clair Ave\, Clairton\, PA\, 15025\, United States
GEO:40.291821;-79.881407
X-APPLE-STRUCTURED-LOCATION;VALUE=URI;X-ADDRESS=CEDCC 282 St Clair Ave Clairton PA 15025 United States;X-APPLE-RADIUS=500;X-TITLE=282 St Clair Ave:geo:-79.881407,40.291821
END:VEVENT
BEGIN:VEVENT
DTSTART;TZID=UTC:20180912T183000
DTEND;TZID=UTC:20180912T203000
DTSTAMP:20260425T153723
CREATED:20180817T150907Z
LAST-MODIFIED:20180817T150907Z
UID:5750-1536777000-1536784200@cleanair.org
SUMMARY:Neighbors Seventh Meeting: April Clisura
DESCRIPTION:
URL:https://cleanair.org/event/neighbors-seventh-meeting-april-clisura/
LOCATION:April’s House\, Pittsburgh\, PA\, 15207\, United States
CATEGORIES:Southwest PA
END:VEVENT
BEGIN:VEVENT
DTSTART;TZID=UTC:20180911T200000
DTEND;TZID=UTC:20180911T220000
DTSTAMP:20260425T153723
CREATED:20180822T150420Z
LAST-MODIFIED:20180822T150420Z
UID:5836-1536696000-1536703200@cleanair.org
SUMMARY:Neighbors Fourth Meeting: Jay Walker
DESCRIPTION:
URL:https://cleanair.org/event/neighbors-fourth-meeting-jay-walker/
LOCATION:Shadyside\, Pittsburgh\, PA\, 15232\, United States
CATEGORIES:Southwest PA
END:VEVENT
BEGIN:VEVENT
DTSTART;TZID=UTC:20180911T190000
DTEND;TZID=UTC:20180911T210000
DTSTAMP:20260425T153723
CREATED:20180817T150559Z
LAST-MODIFIED:20180817T150559Z
UID:5746-1536692400-1536699600@cleanair.org
SUMMARY:Neighbors Seventh Meeting: Nancy Bernstein
DESCRIPTION:
URL:https://cleanair.org/event/neighbors-seventh-meeting-nancy-bernstein/
LOCATION:Nancy’s House\, Pittsburgh\, PA\, 15217\, United States
CATEGORIES:Southwest PA
GEO:40.4327086;-79.9248669
END:VEVENT
BEGIN:VEVENT
DTSTART;TZID=UTC:20180909T160000
DTEND;TZID=UTC:20180909T180000
DTSTAMP:20260425T153723
CREATED:20180817T144235Z
LAST-MODIFIED:20180829T183751Z
UID:5742-1536508800-1536516000@cleanair.org
SUMMARY:Neighbors First Meeting: Rebekah Gamble
DESCRIPTION:
URL:https://cleanair.org/event/neighbors-first-meeting-rebekah-david-gamble/
LOCATION:Sparkledragon’s Magical Emporium\, 2120 Broadway Ave\, Pittsburgh\, PA\, 15216\, United States
CATEGORIES:Southwest PA
GEO:40.404429;-80.0304185
X-APPLE-STRUCTURED-LOCATION;VALUE=URI;X-ADDRESS=Sparkledragon’s Magical Emporium 2120 Broadway Ave Pittsburgh PA 15216 United States;X-APPLE-RADIUS=500;X-TITLE=2120 Broadway Ave:geo:-80.0304185,40.404429
END:VEVENT
BEGIN:VEVENT
DTSTART;TZID=UTC:20180905T180000
DTEND;TZID=UTC:20180905T193000
DTSTAMP:20260425T153723
CREATED:20180829T184513Z
LAST-MODIFIED:20180829T185745Z
UID:5853-1536170400-1536175800@cleanair.org
SUMMARY:Neighbors Leader Training Session
DESCRIPTION:
URL:https://cleanair.org/event/neighbors-leader-training-session/
LOCATION:Crazy Mocha\, 2 E North Ave\,\, Pittsburgh\, PA\, 15212\, United States
CATEGORIES:Southwest PA
GEO:40.4557249;-80.0065166
X-APPLE-STRUCTURED-LOCATION;VALUE=URI;X-ADDRESS=Crazy Mocha 2 E North Ave Pittsburgh PA 15212 United States;X-APPLE-RADIUS=500;X-TITLE=2 E North Ave\,:geo:-80.0065166,40.4557249
END:VEVENT
BEGIN:VEVENT
DTSTART;TZID=UTC:20180831T113000
DTEND;TZID=UTC:20180831T123000
DTSTAMP:20260425T153723
CREATED:20180817T142506Z
LAST-MODIFIED:20180817T142506Z
UID:5730-1535715000-1535718600@cleanair.org
SUMMARY:Fridays with Fitzgerald
DESCRIPTION:
URL:https://cleanair.org/event/fridays-with-fitzgerald/
LOCATION:Allegheny County Courthouse\, 436 Grant St\, Pittsburgh\, PA\, 15219\, United States
CATEGORIES:Southwest PA
GEO:40.4388408;-79.9959315
X-APPLE-STRUCTURED-LOCATION;VALUE=URI;X-ADDRESS=Allegheny County Courthouse 436 Grant St Pittsburgh PA 15219 United States;X-APPLE-RADIUS=500;X-TITLE=436 Grant St:geo:-79.9959315,40.4388408
END:VEVENT
BEGIN:VEVENT
DTSTART;TZID=UTC:20180830T183000
DTEND;TZID=UTC:20180830T203000
DTSTAMP:20260425T153723
CREATED:20180820T200803Z
LAST-MODIFIED:20180820T200803Z
UID:5819-1535653800-1535661000@cleanair.org
SUMMARY:Neighbors Fourth Meeting - Zelda Curtiss
DESCRIPTION:
URL:https://cleanair.org/event/neighbors-fourth-meeting-zelda-curtiss-2/
LOCATION:Zelda’s House\, Pittsburgh\, PA\, 15217\, United States
CATEGORIES:Southwest PA
GEO:40.4327086;-79.9248669
END:VEVENT
BEGIN:VEVENT
DTSTART;TZID=UTC:20180830T180000
DTEND;TZID=UTC:20180830T193000
DTSTAMP:20260425T153723
CREATED:20180817T141551Z
LAST-MODIFIED:20180822T130841Z
UID:5726-1535652000-1535657400@cleanair.org
SUMMARY:Neighbors Leader Training
DESCRIPTION:
URL:https://cleanair.org/event/neighbors-leader-training-2/
LOCATION:The Porch\, 221 Schenley Dr\, Pittsburgh\, PA\, 15213\, United States
CATEGORIES:Southwest PA
GEO:40.4425717;-79.9527374
X-APPLE-STRUCTURED-LOCATION;VALUE=URI;X-ADDRESS=The Porch 221 Schenley Dr Pittsburgh PA 15213 United States;X-APPLE-RADIUS=500;X-TITLE=221 Schenley Dr:geo:-79.9527374,40.4425717
END:VEVENT
BEGIN:VEVENT
DTSTART;TZID=UTC:20180828T190000
DTEND;TZID=UTC:20180828T210000
DTSTAMP:20260425T153723
CREATED:20180817T141247Z
LAST-MODIFIED:20180817T142546Z
UID:5722-1535482800-1535490000@cleanair.org
SUMMARY:Neighbors Third Meeting: John Creasy
DESCRIPTION:
URL:https://cleanair.org/event/neighbors-third-meeting-john-creasy/
LOCATION:Pittsburgh’s Friendship Neighborhood\, 15232
CATEGORIES:Southwest PA
GEO:40.451096;-79.9332613
END:VEVENT
BEGIN:VEVENT
DTSTART;TZID=UTC:20180826T140000
DTEND;TZID=UTC:20180826T160000
DTSTAMP:20260425T153723
CREATED:20180816T184915Z
LAST-MODIFIED:20180817T142634Z
UID:5701-1535292000-1535299200@cleanair.org
SUMMARY:Neighbors Sixth Meeting: Mark Dixon
DESCRIPTION:
URL:https://cleanair.org/event/neighbors-sixth-meeting-mark-dixon/
LOCATION:Mark’s House\, Pittsburgh\, 15217
CATEGORIES:Southwest PA
GEO:40.4327086;-79.9248669
END:VEVENT
BEGIN:VEVENT
DTSTART;TZID=UTC:20180823T180000
DTEND;TZID=UTC:20180823T200000
DTSTAMP:20260425T153723
CREATED:20180816T184625Z
LAST-MODIFIED:20180816T184625Z
UID:5698-1535047200-1535054400@cleanair.org
SUMMARY:Neighbors Sixth Meeting: Evalynn Welling
DESCRIPTION:
URL:https://cleanair.org/event/neighbors-sixth-meeting-evalynn-welling/
LOCATION:East Liberty Presbyterian Church\, 116 S Highland Ave\, Pittsburgh\, PA\, 15206\, United States
CATEGORIES:Southwest PA
GEO:40.4611789;-79.9256102
X-APPLE-STRUCTURED-LOCATION;VALUE=URI;X-ADDRESS=East Liberty Presbyterian Church 116 S Highland Ave Pittsburgh PA 15206 United States;X-APPLE-RADIUS=500;X-TITLE=116 S Highland Ave:geo:-79.9256102,40.4611789
END:VEVENT
END:VCALENDAR