BEGIN:VCALENDAR
VERSION:2.0
PRODID:-//Clean Air Council - ECPv6.15.20//NONSGML v1.0//EN
CALSCALE:GREGORIAN
METHOD:PUBLISH
X-WR-CALNAME:Clean Air Council
X-ORIGINAL-URL:https://cleanair.org
X-WR-CALDESC:Events for Clean Air Council
REFRESH-INTERVAL;VALUE=DURATION:PT1H
X-Robots-Tag:noindex
X-PUBLISHED-TTL:PT1H
BEGIN:VTIMEZONE
TZID:UTC
BEGIN:STANDARD
TZOFFSETFROM:+0000
TZOFFSETTO:+0000
TZNAME:UTC
DTSTART:20150101T000000
END:STANDARD
END:VTIMEZONE
BEGIN:VEVENT
DTSTART;TZID=UTC:20160916T090000
DTEND;TZID=UTC:20160916T170000
DTSTAMP:20260424T152244
CREATED:20160913T172057Z
LAST-MODIFIED:20160913T172057Z
UID:1976-1474016400-1474045200@cleanair.org
SUMMARY:Park(ing) Day 2016
DESCRIPTION:PARK(ing) Day is an annual worldwide event where artists\, designers and citizens transform metered parking spots into temporary public parks.  \nOn Friday\, September 16\, from 9:00 am until 5:00 pm\, Clean Air Council’s GoPhillyGo program will be transforming a parking space at 1600 Chestnut into Greater Philadelphia’s multimodal headquarters. Learn how to travel farther without a car\, get mutlimodal tips\, discover environmental destinations and share where you like to go by bus\, train\, or trolley\, on your bike\, and even walking. \nPlan your multimodal trip to our Park(ing) day location with GoPhillyGo: http://bit.ly/2cXfvaU. \nAbout Park(ing) Day\nProviding temporary public open space . . . one parking spot at at time. \nPARK(ing) Day is a annual open-source global event where citizens\, artists and activists collaborate to temporarily transform metered parking spaces into “PARK(ing)” spaces: temporary public places. The project began in 2005 when Rebar\, a San Francisco art and design studio\, converted a single metered parking space into a temporary public park in downtown San Francisco. Since 2005\, PARK(ing) Day has evolved into a global movement\, with organizations and individuals (operating independently of Rebar\, but following an established set of guidelines) creating new forms of temporary public space in urban contexts around the world. \nThe mission of PARK(ing) Day is to call attention to the need for more urban open space\, to generate critical debate around how public space is created and allocated\, and to improve the quality of urban human habitat … at least until the meter runs out!
URL:https://cleanair.org/event/parking-day-2016/
LOCATION:1600 Chestnut St.\, Philadelphia \, PA\, 19103\, United States
CATEGORIES:GoPhillyGo
ATTACH;FMTTYPE=image/jpeg:https://cleanair.org/wp-content/uploads/National_logo.jpg
ORGANIZER;CN="GoPhillyGo":MAILTO:ereinhard@cleanair.org
GEO:39.9510562;-75.1674123
X-APPLE-STRUCTURED-LOCATION;VALUE=URI;X-ADDRESS=1600 Chestnut St. Philadelphia  PA 19103 United States;X-APPLE-RADIUS=500;X-TITLE=1600 Chestnut St.:geo:-75.1674123,39.9510562
END:VEVENT
BEGIN:VEVENT
DTSTART;TZID=UTC:20160911T100000
DTEND;TZID=UTC:20160911T160000
DTSTAMP:20260424T152244
CREATED:20160607T135607Z
LAST-MODIFIED:20160607T135654Z
UID:1353-1473588000-1473609600@cleanair.org
SUMMARY:Greenfest Philly 2016
DESCRIPTION:Greenfest Philly is the largest environmental festival in the Philadelphia area. With over 150 exhibitors and vendors\, Greenfest is the place to learn about living sustainably while having fun! This event has something for everyone: shopping for local green wares\, great food\, live music\, live demonstrations\, kid-friendly activities\, and more. Greenfest Philly will be held on Sunday\, September 11\, 2016 from 10am to 4pm in the historic Headhouse Square. \nThe festival is free to attend and all are welcome!
URL:https://cleanair.org/event/greenfest-philly-2016/
LOCATION:Headhouse Plaza\, 201 south st\, Philadelphia\, PA\, 19147\, United States
ATTACH;FMTTYPE=image/jpeg:https://cleanair.org/wp-content/uploads/GF-Guide-bar.jpg
GEO:39.9412111;-75.1457592
X-APPLE-STRUCTURED-LOCATION;VALUE=URI;X-ADDRESS=Headhouse Plaza 201 south st Philadelphia PA 19147 United States;X-APPLE-RADIUS=500;X-TITLE=201 south st:geo:-75.1457592,39.9412111
END:VEVENT
BEGIN:VEVENT
DTSTART;TZID=UTC:20160911T100000
DTEND;TZID=UTC:20160911T110000
DTSTAMP:20260424T152244
CREATED:20160726T193359Z
LAST-MODIFIED:20160727T200839Z
UID:1592-1473588000-1473591600@cleanair.org
SUMMARY:GoPhillyGo + Kidical Mass PHL Family-Friendly Ride to GreenFest Philly
DESCRIPTION:Arrive at Greenfest Philly emissions-free with GoPhillyGo and Kidical Mass PHL! GoPhillyGo and Kidical Mass are hosting a family-friendly bike ride to GreenFest Philly on Sunday\, September 11. Anyone is welcome to ride with us; even adults without children. However\, all children must have an adult accompany them. This is an all-inclusive\, beginner friendly ride and any kind of adult bicycle is welcome. For children\, we discourage training wheels as our city streets aren’t very smoothly paved. We do not allow balance/push bikes or scooters on the ride. Kidical Mass riders follow all the rules of the road and tend to ride very slow. Meet-up is at 10:00 am on Sunday\, September 11\, at Fitler Square (23rd St. & Pine St.). \nFrom there we will ride together\, on the road\, 1.8 miles to Headhouse Row (2nd St. & Pine St.). This is an all-inclusive\, beginner friendly ride and any kind of adult bicycle is welcome. For children\, discourage training wheels as our city streets aren’t very smoothly paved. We do not allow balance/push bikes or scooters on the ride. We will ride as slow as our slowest ride and will have a person who rides sweep in the back as well. \nAt GreenFest Philly\, you will find restrooms\, complimentary Philadelphia Insurance Companies bike valet (3rd St. & South St.)\, complimentary MOM Organic Market healthy snacks\, complimentary iced coffee and MOM Organic Market Kids’ Corner featuring eco-friendly crafts and activities\, games\, and more. Additionally\, the Indego bike share station at 2nd St. & South St. will be offering free rides for the first 30 minutes of a trip — use code Greenfest16. There will be no organized group trip back to Fitler Square. Please RSVP here. View the route here. \nWhen: Sunday\, September 11\, 2016 @ 10:00 AM \nStart: Fitler Square @ 23rd St. & Pine St. \nEnd: Greenfest Philly\, Headhouse Row (2nd St. & Pine St.) \nRSVP: https://www.eventbrite.com/e/gpg-kidical-mass-family-friendly-ride-to-greenfest-philly-tickets-26789283468 \nRoute: http://bit.ly/2ahnf5E \nGoPhillyGo + Kidical Mass Ride Guidelines: \nKids on bikes: no training wheels or scoot/balance bikes (bikes without pedals). \nKids MUST have an adult watching them (no more than 3 kids per adult). \nAdults MUST stay with their own kids. \nHelmets required. \nSunscreen suggested. \nBring water. \nNo organized return trip. \nAbout Greenfest Philly: \nGreenfest Philly is the largest environmental festival in the Philadelphia area. With over 100 exhibitors and vendors\, Greenfest is the place to learn about living sustainably while having fun! This event has something for everyone: shopping for local green wares\, great food\, live music\, live demonstrations\, kid-friendly activities\, and more. Greenfest Philly will be held on Sunday\, September 11\, 2016 from 10:00 am to 4:00 pm in the historic Headhouse Square.
URL:https://cleanair.org/event/gophillygo-kidical-mass-phl-family-friendly-ride-to-greenfest-philly/
CATEGORIES:GoPhillyGo,GreenFest Philly
ATTACH;FMTTYPE=image/jpeg:https://cleanair.org/wp-content/uploads/GPG-KIDICAL-MASS-1440X4002.jpg
ORGANIZER;CN="GoPhillyGo":MAILTO:ereinhard@cleanair.org
END:VEVENT
BEGIN:VEVENT
DTSTART;TZID=UTC:20160823T060000
DTEND;TZID=UTC:20160823T200000
DTSTAMP:20260424T152244
CREATED:20160817T173508Z
LAST-MODIFIED:20160817T173547Z
UID:1801-1471932000-1471982400@cleanair.org
SUMMARY:Roundtable on Philadelphia Transportation Pollution
DESCRIPTION:  \nTransportation just surpassed power plants as the largest source of carbon dioxide pollution in the United States. Clean Air Council works to reduce emissions from both sources by supporting the Clean Power Plan and sustainable transit via programs like GoPhillyGo. The Council and PennFuture are hosting a forum to explore options for cutting transportation-related pollution in Philadelphia. Join us August 23rd 6PM at the International House to hear from the leaders of SEPTA\, the Mayor’s Office of Sustainability\, the Health Department and more! \nRegister here for this unique opportunity to engage those leading Philadelphia to improve air quality and transportation (plus snacks!). \nWhen: August 23rd 6-8PM \nWhere: International House\, Asia Room\, 3701 Chestnut St \nSpeakers:\nState Representative Donna Bullock (D-195)\nSEPTA Director of Innovation Erik Johanson\nMayor’s Office of Sustainability Director Christine Knapp\nEastern Pennsylvania Alliance for Clean Transportation Executive Director Tony Bandiero\nDepartment of Public Health\, Division of Disease Control Assistant Program Manager\, Bioterrorism & Public Health Preparedness Jessica Caum\, MA MPH CPH \nThe majority of Philadelphia’s air pollution comes from automobiles. We have seen new taxes on sugary drinks and cigarettes intended to increase city revenue and improve public health. Will we soon see this logic applied to cars\, tolls and gasoline? What can SEPTA do to increase ridership and take cars off the road on dangerous air quality days? \nWe need you to make this roundtable a success! \nPlease register here and be prepared for a lively discussion about pollution\, transportation and public health.
URL:https://cleanair.org/event/roundtable-on-philadelphia-transportation-pollution/
LOCATION:International House\, Asia Room\, 3701 Chestnut St\, Philadelphia\, 19104
GEO:39.955379;-75.196931
X-APPLE-STRUCTURED-LOCATION;VALUE=URI;X-ADDRESS=International House Asia Room 3701 Chestnut St Philadelphia 19104;X-APPLE-RADIUS=500;X-TITLE=3701 Chestnut St:geo:-75.196931,39.955379
END:VEVENT
BEGIN:VEVENT
DTSTART;TZID=UTC:20160612T100000
DTEND;TZID=UTC:20160612T170000
DTSTAMP:20260424T152244
CREATED:20160526T184846Z
LAST-MODIFIED:20160526T184846Z
UID:768-1465725600-1465750800@cleanair.org
SUMMARY:Tabling @ PrideDay
DESCRIPTION:
URL:https://cleanair.org/event/tabling-prideday/
END:VEVENT
BEGIN:VEVENT
DTSTART;VALUE=DATE:20160514
DTEND;VALUE=DATE:20160515
DTSTAMP:20260424T152244
CREATED:20160321T185006Z
LAST-MODIFIED:20160321T185025Z
UID:207-1463184000-1463270399@cleanair.org
SUMMARY:WB Saul Country Fair
DESCRIPTION:10:00 A.M.\, 7100 Henry Ave.  \n“Join us in supporting one of the great agriculture sciences high schools in the country.”
URL:https://cleanair.org/event/wb-saul-country-fair/
END:VEVENT
BEGIN:VEVENT
DTSTART;VALUE=DATE:20160430
DTEND;VALUE=DATE:20160501
DTSTAMP:20260424T152244
CREATED:20160321T184815Z
LAST-MODIFIED:20160321T185330Z
UID:204-1461974400-1462060799@cleanair.org
SUMMARY:Philadelphia Science Festival
DESCRIPTION:10:00 A.M.\, the Great Plaza at Penn’s \nGreenfest Philly is the region’s largest environmental festival and street fair. Since 2006\, this popular event in early September provides a unique opportunity for 10\,000-20\,000 attendees to learn how to live life a little greener and healthier. Festivities include live music from popular local bands\, kid’s corner with eco-friendly crafts and music\, organic food and drinks\, a beer garden\, handmade goods\, innovative green businesses and products\, a celebration of local sustainability innovators\, ways to take action for clean air\, edible bugs\, and much more. Alongside that fun\, 150+ sponsors\, local businesses\, supporters and vendors help transform Headhouse Square into a festive\, fun and educational outdoor marketplace. \nFor more information visit GreenfestPhilly.org or get in touch with Katie Edwards. Her phone number is 215-567-4004 ext. 102\, and her email is kedwards@cleanair.org.
URL:https://cleanair.org/event/philadelphia-science-festival/
ATTACH;FMTTYPE=image/jpeg:https://cleanair.org/wp-content/uploads/GF.jpg
END:VEVENT
END:VCALENDAR