BEGIN:VCALENDAR
VERSION:2.0
PRODID:-//Clean Air Council - ECPv6.15.20//NONSGML v1.0//EN
CALSCALE:GREGORIAN
METHOD:PUBLISH
X-ORIGINAL-URL:https://cleanair.org
X-WR-CALDESC:Events for Clean Air Council
REFRESH-INTERVAL;VALUE=DURATION:PT1H
X-Robots-Tag:noindex
X-PUBLISHED-TTL:PT1H
BEGIN:VTIMEZONE
TZID:UTC
BEGIN:STANDARD
TZOFFSETFROM:+0000
TZOFFSETTO:+0000
TZNAME:UTC
DTSTART:20170101T000000
END:STANDARD
END:VTIMEZONE
BEGIN:VEVENT
DTSTART;TZID=UTC:20180831T113000
DTEND;TZID=UTC:20180831T123000
DTSTAMP:20260424T104028
CREATED:20180817T142506Z
LAST-MODIFIED:20180817T142506Z
UID:5730-1535715000-1535718600@cleanair.org
SUMMARY:Fridays with Fitzgerald
DESCRIPTION:
URL:https://cleanair.org/event/fridays-with-fitzgerald/
LOCATION:Allegheny County Courthouse\, 436 Grant St\, Pittsburgh\, PA\, 15219\, United States
CATEGORIES:Southwest PA
GEO:40.4388408;-79.9959315
X-APPLE-STRUCTURED-LOCATION;VALUE=URI;X-ADDRESS=Allegheny County Courthouse 436 Grant St Pittsburgh PA 15219 United States;X-APPLE-RADIUS=500;X-TITLE=436 Grant St:geo:-79.9959315,40.4388408
END:VEVENT
END:VCALENDAR