BEGIN:VCALENDAR
VERSION:2.0
PRODID:-//Clean Air Council - ECPv6.15.20//NONSGML v1.0//EN
CALSCALE:GREGORIAN
METHOD:PUBLISH
X-WR-CALNAME:Clean Air Council
X-ORIGINAL-URL:https://cleanair.org
X-WR-CALDESC:Events for Clean Air Council
REFRESH-INTERVAL;VALUE=DURATION:PT1H
X-Robots-Tag:noindex
X-PUBLISHED-TTL:PT1H
BEGIN:VTIMEZONE
TZID:UTC
BEGIN:STANDARD
TZOFFSETFROM:+0000
TZOFFSETTO:+0000
TZNAME:UTC
DTSTART:20150101T000000
END:STANDARD
END:VTIMEZONE
BEGIN:VEVENT
DTSTART;TZID=UTC:20161022T093000
DTEND;TZID=UTC:20161022T150000
DTSTAMP:20260424T124641
CREATED:20161004T153114Z
LAST-MODIFIED:20161004T153412Z
UID:2106-1477128600-1477148400@cleanair.org
SUMMARY:GoPhillyGo Goes to Bristol Marsh
DESCRIPTION:Get multimodal with GoPhillyGo on Saturday\, October 22\, as we combine SEPTA Regional Rail with bicycling to travel from Center City to Bristol Marsh\, a GoPhillyGo featured destination\, for an afternoon of bike exploration and nature walking. \nWe will begin the day at Suburban Station (16th St. & JFK Blvd) by taking our bikes on a reserved SEPTA Regional Rail car at 9:45 am to the Bristol Station. From there\, we will bike-explore 15 miles of the Delaware and Lehigh Canal Towpath (D&L Trail). The D&L Trail\, now part of the East Coast Greenway’s 3\,000 mile bike-pedestrian trail  from Maine to Florida\, was once a major shipping route during the Industrial Revolution. This is no-drop\, leisurely paced ride (10 – 12 mph). \nAfter the ride\, we’ll break for a complimentary lunch at Bristol Marsh. Lunch will be followed by a Heritage Conservancy-led nature walk through Bristol Marsh. Heritage Conservancy works as a local partner to The Nature Conservancy to promote the ecological restoration and stewardship of Bristol Marsh. Bristol Marsh is one of the few remaining freshwater tidal marshes along the Delaware River. It is home to six rare plant species native to the Delaware River Basin.  After the nature walk\, we will return to Center City at 2:11 pm by a reserved SEPTA Regional Rail car. \nThe cost of this event is $10*. The $10 covers your SEPTA fare and lunch. This event is limited to 15 participants. \nBuy your tickets TODAY! \nGo to registration page. \nFill in personal and payment information. \nSelect Other and enter $10. The $10 is an event fee\, it is not a tax-deductible donation. \nUnder Anything else we should know\, enter GoPhillyGo at Bristol Marsh. \nJoin the Facebook event page to stay up-to-date on the ride! \nRegistration deadline is Monday\, October 17. \nBristol Borough-area residents\, and those coming from outside of Center City are welcome to attend. To join the bike-exploration and nature walk\, meet us with your bikes at the Bristol Station at 10:20 am. Please email Erika Reinhard at ereinhard@cleanair.org to let us know we should plan to meet you. \nThis is a self-supported ride\, we highly suggest bringing a spare tube and repair kit. All riders must wear a helmet and follow the rules of the road.  Please bring a lock to safely secure your bike while we are on the nature walk. We encourage riders to pay attention to the weather forecast and to dress appropriately. We also suggest wearing high visibility clothing and to bring a water bottle and snacks. Use of Indego bike share is not permitted. If you have a dietary restrictions\, please contact Erika Reinhard. \n*The $10 fee is not a tax-deductible donation. \nFor more information\, please contact Erika Reinhard\, Sustainable Transportation Outreach Coordinator\, by calling 215-567-4004 ext. 111 or emailing ereinhard@cleanair.org.
URL:https://cleanair.org/event/gophillygo-goes-to-bristol-marsh/
LOCATION:Bristol Marsh\, 159 Basin Park\, Bristol\, PA\, 19007\, United States
CATEGORIES:GoPhillyGo
ATTACH;FMTTYPE=image/jpeg:https://cleanair.org/wp-content/uploads/1080-X-1080-Bristol-Marsh-IG.jpg
ORGANIZER;CN="GoPhillyGo":MAILTO:ereinhard@cleanair.org
GEO:40.0940297;-74.8571734
X-APPLE-STRUCTURED-LOCATION;VALUE=URI;X-ADDRESS=Bristol Marsh 159 Basin Park Bristol PA 19007 United States;X-APPLE-RADIUS=500;X-TITLE=159 Basin Park:geo:-74.8571734,40.0940297
END:VEVENT
BEGIN:VEVENT
DTSTART;TZID=UTC:20170216T173000
DTEND;TZID=UTC:20170216T193000
DTSTAMP:20260424T124641
CREATED:20170131T200738Z
LAST-MODIFIED:20170131T200738Z
UID:2607-1487266200-1487273400@cleanair.org
SUMMARY:GoPhillyGo Multimodal Happy Hour
DESCRIPTION:You’re invited to join GoPhillyGo\, SPOKE magazine\, and Firth & Wilson Transport Cycles on Thursday\, February 16 for a multimodal happy hour upstairs at Fergie’s Pub (1214 Sansom St). Philadelphia is fast becoming one of the leading cities in the U.S. to get around without a car\, and it just keeps getting better. You’ll hear about an exciting new aspect of GoPhillyGo.org that’s being launched soon\, news and plans for the coming year\, and you’ll meet up with friends and other multimodal transportation advocates. \nRSVP on Eventbrite and join the Multimodal Happy Hour Facebook event page to stay up to date. \nWe hope to see you there! \nWhat: \nMultimodal Transportation Happy Hour hosted by GoPhillyGo\, SPOKE magazine\, and Firth & Wilson Transport Cycles \nWhen: \nThursday\, February 16\, 5:30 pm – 7:30 pm \nWhere: \nFergie’s Pub \n2nd Floor \n1214 Sansom St.\, Philadelphia\, PA 19107 \nPlan your multimodal trip with GoPhillyGo.org! \nCost: \nAdmission is free\, finger food is free\, and drinks are pay as you go. First 50 people in the door will receive a free drink ticket. \nAbout the Organizations \nGoPhillyGo is a free online mapping tool for the Greater Philadelphia area\, with a major upgrade coming in 2017. Developed with state-of-the-art mapping technology\, this site makes it easy for users to plan their routes through multimodal methods — combining biking + walking + public transportation within one trip — to go anywhere within the Greater Philadelphia area without the use of a car. It even provides details on pedestrian and bike routes\, letting users customize their trips. Go to www.gophillygo.org to plan your trip today and connect with GoPhillyGo on Facebook or on Twitter and Instagram at @go_philly_go. \nSPOKE magazine informs and engages greater Philadelphia by covering mobility. With a focus on long-form journalism and storytelling\, the magazine examines urban life through the lenses of bicycling\, walking and mass transit. Go to www.spokemag.bike to read SPOKE magazine today and connect with SPOKE magazine on Facebook or on Twitter and Instagram at @spoke_mag. \nFirth & Wilson Transport Cycles is a full-service bicycle shop and retail showroom specializing in transportation and cargo bicycles. Now located at 1105 Frankford Avenue\, the shop caters exclusively to the urban cyclist with a full range of bike accessories and bicycles from Yuba\, Xtracycle\, Babboe\, Gazelle\, Larry Vs Harry\, Pashley\, Simcoe\, Breezer\, Linus\, Pure Fix\, Pure City\, SE\, and Torker. The option of a custom fabricated bicycle is also on offer\, designed by the shop’s owners under the labels David Wilson Industries (DWI) custom cargo bikes and Hanford Cycles custom frames. Go to www.transportcycle.com for more information\, and connect with them on Facebook or on Twitter and Instagram at @transportcycles.
URL:https://cleanair.org/event/gophillygo-multimodal-happy-hour/
LOCATION:Fergie’s Pub\, 1214 Sansom St.\, Philadelphia\, PA\, 19107
CATEGORIES:GoPhillyGo
ATTACH;FMTTYPE=image/jpeg:https://cleanair.org/wp-content/uploads/400x200-GPG-Event-HH-Eventbrite.jpg
ORGANIZER;CN="GoPhillyGo":MAILTO:ereinhard@cleanair.org
GEO:39.9496155;-75.1611523
X-APPLE-STRUCTURED-LOCATION;VALUE=URI;X-ADDRESS=Fergie’s Pub 1214 Sansom St. Philadelphia PA 19107;X-APPLE-RADIUS=500;X-TITLE=1214 Sansom St.:geo:-75.1611523,39.9496155
END:VEVENT
END:VCALENDAR