BEGIN:VCALENDAR
VERSION:2.0
PRODID:-//Clean Air Council - ECPv6.15.20//NONSGML v1.0//EN
CALSCALE:GREGORIAN
METHOD:PUBLISH
X-ORIGINAL-URL:https://cleanair.org
X-WR-CALDESC:Events for Clean Air Council
REFRESH-INTERVAL;VALUE=DURATION:PT1H
X-Robots-Tag:noindex
X-PUBLISHED-TTL:PT1H
BEGIN:VTIMEZONE
TZID:UTC
BEGIN:STANDARD
TZOFFSETFROM:+0000
TZOFFSETTO:+0000
TZNAME:UTC
DTSTART:20240101T000000
END:STANDARD
END:VTIMEZONE
BEGIN:VEVENT
DTSTART;TZID=UTC:20250509T170000
DTEND;TZID=UTC:20250509T193000
DTSTAMP:20260424T153924
CREATED:20250507T163253Z
LAST-MODIFIED:20250507T163348Z
UID:13841-1746810000-1746819000@cleanair.org
SUMMARY:Delco Gives Day Closing Celebration 2025
DESCRIPTION:Delco Gives\, hosted by The Foundation for Delaware County\, is a community-wide celebration to support local nonprofits. In its inaugural year\, 2024\, 9\,600 donors contributed over $1.7 million to nearly 300 nonprofits serving Delaware County. Clean Air Council has participated since the beginning and are excited to be part of the event to make an even greater impact in 2025. Come say hi to us at the closing celebration! \nGive to the Council during Delco Gives Day to receive even more funds from Delco Gives Day sponsors and community partners. \n\nJoin us in wrapping up Delco Gives with a huge celebration! This family-friendly event\, hosted by Jenn Frederick from Fox29\, will feature fun games\, activities\, local nonprofits\, food trucks\, beer\, wine\, and more. Q102’s DJ will be spinning the tunes\, and Buster will broadcast live. Don’t miss a night of music\, fun\, and community spirit. Let’s celebrate the power of giving – Delco style! \nWant to volunteer? Click here for opportunities! \nCan’t join in person? Check out the live stream on May 9 starting at 9:00 a.m.!
URL:https://cleanair.org/event/delco-gives-closing2025/
LOCATION:Rose Tree Park\, 1671 N. Providence Road\, Media\, PA\, 19063\, United States
END:VEVENT
END:VCALENDAR