BEGIN:VCALENDAR
VERSION:2.0
PRODID:-//Clean Air Council - ECPv6.15.20//NONSGML v1.0//EN
CALSCALE:GREGORIAN
METHOD:PUBLISH
X-ORIGINAL-URL:https://cleanair.org
X-WR-CALDESC:Events for Clean Air Council
REFRESH-INTERVAL;VALUE=DURATION:PT1H
X-Robots-Tag:noindex
X-PUBLISHED-TTL:PT1H
BEGIN:VTIMEZONE
TZID:UTC
BEGIN:STANDARD
TZOFFSETFROM:+0000
TZOFFSETTO:+0000
TZNAME:UTC
DTSTART:20160101T000000
END:STANDARD
END:VTIMEZONE
BEGIN:VEVENT
DTSTART;TZID=UTC:20170227T173000
DTEND;TZID=UTC:20170227T200000
DTSTAMP:20260424T125440
CREATED:20170222T160010Z
LAST-MODIFIED:20170222T160121Z
UID:3364-1488216600-1488225600@cleanair.org
SUMMARY:Bike Rack Unveiling
DESCRIPTION:Join Clean Air Council on Monday\, February 27\, as we unveil six new art bike racks along Front Street and Kensington Avenue. These custom art bike racks are funded through the American Street Empowerment Zone and Penn Treaty Special Services District and fabricated by local Fishtown artist Joseph Campbell\, from Metal Incorporated. After the unveiling\, there will be light refreshments and beverages.\n \n When: Monday\, February 27 from 5:30 PM – 8:00 PM\n \n\n \nWhere: Fishtown Bikes-n-Beans\n              1321 N. Front St.\n\n              Philadelphia\, PA 19122 \nPlease RSVP for this free event here and join the Facebook event page. \nFeel free to invite your friends! \nClean Air Council works through government oversight to ensure that all planning and transportation decisions take into account public health and the environment\, public education and advocacy. The Council promotes the use of alternatives to the private motor car wherever possible\, and empowering neighborhoods to ensure local transportation needs are addressed with a satisfactory input from community members \nWhat are my transportation options for getting to and from the event? \nPublic Transit Users\, take the Market/Frankford El to the Girard stop and walk one block north\, or use https://gophillygo.org/ to plan your trip.
URL:https://cleanair.org/event/bike-rack-unveiling/
LOCATION:Fishtown Bikes-n-Beans\, 1321 N Front St\, Philadelphia\, PA\, PA \, United States
ATTACH;FMTTYPE=image/jpeg:https://cleanair.org/wp-content/uploads/Fabrication-Collage.jpg
GEO:39.970845;-75.13533
X-APPLE-STRUCTURED-LOCATION;VALUE=URI;X-ADDRESS=Fishtown Bikes-n-Beans 1321 N Front St Philadelphia PA PA  United States;X-APPLE-RADIUS=500;X-TITLE=1321 N Front St:geo:-75.13533,39.970845
END:VEVENT
END:VCALENDAR