BEGIN:VCALENDAR
VERSION:2.0
PRODID:-//Clean Air Council - ECPv6.15.20//NONSGML v1.0//EN
CALSCALE:GREGORIAN
METHOD:PUBLISH
X-ORIGINAL-URL:https://cleanair.org
X-WR-CALDESC:Events for Clean Air Council
REFRESH-INTERVAL;VALUE=DURATION:PT1H
X-Robots-Tag:noindex
X-PUBLISHED-TTL:PT1H
BEGIN:VTIMEZONE
TZID:UTC
BEGIN:STANDARD
TZOFFSETFROM:+0000
TZOFFSETTO:+0000
TZNAME:UTC
DTSTART:20170101T000000
END:STANDARD
END:VTIMEZONE
BEGIN:VEVENT
DTSTART;TZID=UTC:20180828T190000
DTEND;TZID=UTC:20180828T210000
DTSTAMP:20260424T104810
CREATED:20180817T141247Z
LAST-MODIFIED:20180817T142546Z
UID:5722-1535482800-1535490000@cleanair.org
SUMMARY:Neighbors Third Meeting: John Creasy
DESCRIPTION:
URL:https://cleanair.org/event/neighbors-third-meeting-john-creasy/
LOCATION:Pittsburgh’s Friendship Neighborhood\, 15232
CATEGORIES:Southwest PA
GEO:40.451096;-79.9332613
END:VEVENT
END:VCALENDAR