BEGIN:VCALENDAR
VERSION:2.0
PRODID:-//Clean Air Council - ECPv6.15.20//NONSGML v1.0//EN
CALSCALE:GREGORIAN
METHOD:PUBLISH
X-WR-CALNAME:Clean Air Council
X-ORIGINAL-URL:https://cleanair.org
X-WR-CALDESC:Events for Clean Air Council
REFRESH-INTERVAL;VALUE=DURATION:PT1H
X-Robots-Tag:noindex
X-PUBLISHED-TTL:PT1H
BEGIN:VTIMEZONE
TZID:UTC
BEGIN:STANDARD
TZOFFSETFROM:+0000
TZOFFSETTO:+0000
TZNAME:UTC
DTSTART:20160101T000000
END:STANDARD
END:VTIMEZONE
BEGIN:VEVENT
DTSTART;TZID=UTC:20171109T173000
DTEND;TZID=UTC:20171109T200000
DTSTAMP:20260424T122917
CREATED:20170720T145507Z
LAST-MODIFIED:20170911T202334Z
UID:4354-1510248600-1510257600@cleanair.org
SUMMARY:Clean Air Council's 50th Anniversary
DESCRIPTION:Join the Council for an evening at R2L in Center City as we celebrate our 50th Anniversary as well as Executive Director and Chief Counsel Joe Minott’s 35th year at the Council. Click here to learn more!
URL:https://cleanair.org/event/clean-air-councils-50th-anniversary/
LOCATION:R2L\, 50 S 16th St\, Philadelphia\, PA\, 19102\, United States
GEO:39.9517139;-75.1674855
X-APPLE-STRUCTURED-LOCATION;VALUE=URI;X-ADDRESS=R2L 50 S 16th St Philadelphia PA 19102 United States;X-APPLE-RADIUS=500;X-TITLE=50 S 16th St:geo:-75.1674855,39.9517139
END:VEVENT
END:VCALENDAR