BEGIN:VCALENDAR
VERSION:2.0
PRODID:-//Clean Air Council - ECPv6.15.20//NONSGML v1.0//EN
CALSCALE:GREGORIAN
METHOD:PUBLISH
X-WR-CALNAME:Clean Air Council
X-ORIGINAL-URL:https://cleanair.org
X-WR-CALDESC:Events for Clean Air Council
REFRESH-INTERVAL;VALUE=DURATION:PT1H
X-Robots-Tag:noindex
X-PUBLISHED-TTL:PT1H
BEGIN:VTIMEZONE
TZID:UTC
BEGIN:STANDARD
TZOFFSETFROM:+0000
TZOFFSETTO:+0000
TZNAME:UTC
DTSTART:20160101T000000
END:STANDARD
END:VTIMEZONE
BEGIN:VEVENT
DTSTART;TZID=UTC:20170802T193000
DTEND;TZID=UTC:20170802T220000
DTSTAMP:20260424T122917
CREATED:20170725T160545Z
LAST-MODIFIED:20170727T150834Z
UID:4386-1501702200-1501711200@cleanair.org
SUMMARY:AN INCONVENIENT SEQUEL: TRUTH TO POWER SCREENING
DESCRIPTION:Join Clean Air Council for a special screening of An Inconvenient Sequel: Truth to Power. \nWHEN: Wednesday\, August 2nd \nWHERE: Ritz East – 125 S. 2nd St. Philadelphia\, PA \nCOST: FREE \nTICKETS AVAILABLE HERE \nAN INCONVENIENT SEQUEL: TRUTH TO POWER \nA decade after AN INCONVENIENT TRUTH brought climate change into the heart of popular culture\, comes the riveting and rousing follow-up that shows just how close we are to a real energy revolution. Vice President Al Gore continues his tireless fight traveling around the world training an army of climate champions and influencing international climate policy. Cameras follow him behind the scenes – in moments both private and public\, funny and poignant – as he pursues the inspirational idea that while the stakes have never been higher\, the perils of climate change can be overcome with human ingenuity and passion. \n \n 
URL:https://cleanair.org/event/an-inconvenient-sequel/
LOCATION:Ritz East\, 125 S. 2nd St.\, Philadelphia\, PA\, 19106\, United States
CATEGORIES:GreenFest Philly
ATTACH;FMTTYPE=image/jpeg:https://cleanair.org/wp-content/uploads/inconvenient_sequel.jpg
GEO:39.9477271;-75.1444136
X-APPLE-STRUCTURED-LOCATION;VALUE=URI;X-ADDRESS=Ritz East 125 S. 2nd St. Philadelphia PA 19106 United States;X-APPLE-RADIUS=500;X-TITLE=125 S. 2nd St.:geo:-75.1444136,39.9477271
END:VEVENT
END:VCALENDAR