BEGIN:VCALENDAR
VERSION:2.0
PRODID:-//Clean Air Council - ECPv6.15.20//NONSGML v1.0//EN
CALSCALE:GREGORIAN
METHOD:PUBLISH
X-WR-CALNAME:Clean Air Council
X-ORIGINAL-URL:https://cleanair.org
X-WR-CALDESC:Events for Clean Air Council
REFRESH-INTERVAL;VALUE=DURATION:PT1H
X-Robots-Tag:noindex
X-PUBLISHED-TTL:PT1H
BEGIN:VTIMEZONE
TZID:UTC
BEGIN:STANDARD
TZOFFSETFROM:+0000
TZOFFSETTO:+0000
TZNAME:UTC
DTSTART:20170101T000000
END:STANDARD
END:VTIMEZONE
BEGIN:VEVENT
DTSTART;TZID=UTC:20180412T180000
DTEND;TZID=UTC:20180412T210000
DTSTAMP:20260424T104845
CREATED:20180323T202013Z
LAST-MODIFIED:20180404T210109Z
UID:5249-1523556000-1523566800@cleanair.org
SUMMARY:Southwest PA Neighbors for Clean Air Initiative
DESCRIPTION:Join Clean Air Council to kick off our Southwest PA Neighbors for Clean Air Initiative! \nClean Air Council is launching its Southwest Pennsylvania Neighbors for Clean Air initiative on April 12 to raise awareness and recruit additional volunteers. This free event will feature Lois Marie Gibbs\, the primary organizer in Love Canal\, winner of the Goldman Environmental Prize and Heinz award in the Environment\, and Nobel Peace Prize nominee. \nSouthwest Pennsylvania\, particularly Allegheny County\, continues to receive poor air quality grades. Residents are demanding that industry and government protect their health\, environment\, and quality of life. \nThe Southwest Pennsylvania Neighbors for Clean Air initiative will establish at least 100 groups of 10 neighbors in southwest Pennsylvania to educate 1\,000 new volunteer leaders about air pollution sources and build their capacity to address air quality issues affecting their lives.  \nRSVP – http://bit.ly/CleanAirKickoff \nFor more information\, contact Dave Smith at 412-954-8494 or dsmith@cleanair.org. \nTransportation – Clean Air Council is providing transportation from the following locations (specific pick-up times will be provided when they are available) please email dsmith@cleanair.org to reserve a space. \nBus one pick-up:\nCommunity Library of Allegheny Valley – 1522 Broadview Blvd\, Natrona Heights\, PA 15065\nPossible pick up in Aspinwall/Fox Chapel \nBus two pick-up:\nSt Clare of Assisi – 460 Reed St\, Clairton\, PA 15025\nBraddock Carnegie Library – 419 Library St\, Braddock PA 15104 \nBus three pick-up:\nBeaver Historic Train Station – 276 East End Ave\, Beaver PA 15009\nPossible pick-up in Aliquippa
URL:https://cleanair.org/event/southwest-pa-neighbors-for-clean-air-initiative/
LOCATION:St. Nicholas Greek Orthodox Church\, 419 Dithridge St.\, Pittsburgh\, 15213\, United States
ATTACH;FMTTYPE=image/png:https://cleanair.org/wp-content/uploads/BUILDING-A-FUTURE-FULL-OF-HOPE-AND-PROMISE-1.png
GEO:40.4447933;-79.9499166
X-APPLE-STRUCTURED-LOCATION;VALUE=URI;X-ADDRESS=St. Nicholas Greek Orthodox Church 419 Dithridge St. Pittsburgh 15213 United States;X-APPLE-RADIUS=500;X-TITLE=419 Dithridge St.:geo:-79.9499166,40.4447933
END:VEVENT
END:VCALENDAR